BEGIN:VCALENDAR
VERSION:2.0
PRODID:-//The Old Dovorian Club - ECPv6.15.17.1//NONSGML v1.0//EN
CALSCALE:GREGORIAN
METHOD:PUBLISH
X-ORIGINAL-URL:https://olddovorians.com
X-WR-CALDESC:Events for The Old Dovorian Club
REFRESH-INTERVAL;VALUE=DURATION:PT1H
X-Robots-Tag:noindex
X-PUBLISHED-TTL:PT1H
BEGIN:VTIMEZONE
TZID:Europe/London
BEGIN:DAYLIGHT
TZOFFSETFROM:+0000
TZOFFSETTO:+0100
TZNAME:BST
DTSTART:20230326T010000
END:DAYLIGHT
BEGIN:STANDARD
TZOFFSETFROM:+0100
TZOFFSETTO:+0000
TZNAME:GMT
DTSTART:20231029T010000
END:STANDARD
BEGIN:DAYLIGHT
TZOFFSETFROM:+0000
TZOFFSETTO:+0100
TZNAME:BST
DTSTART:20240331T010000
END:DAYLIGHT
BEGIN:STANDARD
TZOFFSETFROM:+0100
TZOFFSETTO:+0000
TZNAME:GMT
DTSTART:20241027T010000
END:STANDARD
BEGIN:DAYLIGHT
TZOFFSETFROM:+0000
TZOFFSETTO:+0100
TZNAME:BST
DTSTART:20250330T010000
END:DAYLIGHT
BEGIN:STANDARD
TZOFFSETFROM:+0100
TZOFFSETTO:+0000
TZNAME:GMT
DTSTART:20251026T010000
END:STANDARD
BEGIN:DAYLIGHT
TZOFFSETFROM:+0000
TZOFFSETTO:+0100
TZNAME:BST
DTSTART:20260329T010000
END:DAYLIGHT
BEGIN:STANDARD
TZOFFSETFROM:+0100
TZOFFSETTO:+0000
TZNAME:GMT
DTSTART:20261025T010000
END:STANDARD
BEGIN:DAYLIGHT
TZOFFSETFROM:+0000
TZOFFSETTO:+0100
TZNAME:BST
DTSTART:20270328T010000
END:DAYLIGHT
BEGIN:STANDARD
TZOFFSETFROM:+0100
TZOFFSETTO:+0000
TZNAME:GMT
DTSTART:20271031T010000
END:STANDARD
END:VTIMEZONE
BEGIN:VEVENT
DTSTART;TZID=Europe/London:20260407T170000
DTEND;TZID=Europe/London:20260407T213000
DTSTAMP:20260423T152202
CREATED:20260101T103149Z
LAST-MODIFIED:20260101T110433Z
UID:3482-1775581200-1775597400@olddovorians.com
SUMMARY:352nd Regular Meeting of The Old Dovorian Lodge
DESCRIPTION:The Old Dovorian Lodge will be holding their Installation Meeting at Freemasons Hall\, Tuesday 7th April 2026 . For further information please contact the Lodge Secretary via email at olddovorianlodge@gmail.com
URL:https://olddovorians.com/event/352nd-meeting-of-the-old-dovorian-lodge/
LOCATION:Freemasons Hall Great Queen Street London\, 60 Great Queen Street\,\, London\, WC2B 5AZ\, United Kingdom
CATEGORIES:Old Dovorian Lodge
ATTACH;FMTTYPE=image/jpeg:https://olddovorians.com/wp-content/uploads/2025/08/Social-Media-Background.-v2.jpg
END:VEVENT
BEGIN:VEVENT
DTSTART;TZID=Europe/London:20260203T170000
DTEND;TZID=Europe/London:20260203T220000
DTSTAMP:20260423T152202
CREATED:20251016T123938Z
LAST-MODIFIED:20251016T123938Z
UID:3286-1770138000-1770156000@olddovorians.com
SUMMARY:Old Dovorian Lodge Installation  Meeting
DESCRIPTION:The Old Dovorian Lodge will be holding their Installation Meeting at Freemasons Hall\, Tuesday 3rd February 2026 . For further information please contact the Lodge Secretary via email at olddovorianlodge@gmail.com
URL:https://olddovorians.com/event/old-dovorian-lodge-installation-meeting-2/
LOCATION:Freemasons Hall Great Queen Street London\, 60 Great Queen Street\,\, London\, WC2B 5AZ\, United Kingdom
CATEGORIES:Old Dovorian Lodge
ATTACH;FMTTYPE=image/jpeg:https://olddovorians.com/wp-content/uploads/2025/08/Social-Media-Background.-v2.jpg
END:VEVENT
BEGIN:VEVENT
DTSTART;TZID=Europe/London:20251202T170000
DTEND;TZID=Europe/London:20251202T220000
DTSTAMP:20260423T152202
CREATED:20250821T131935Z
LAST-MODIFIED:20250821T131935Z
UID:3107-1764694800-1764712800@olddovorians.com
SUMMARY:Old Dovorian Lodge Regular Meeting
DESCRIPTION:The Old Dovorian Lodge will be holding their regular Meeting at Freemasons Hall\, Tuesday 2nd December 2025. For further information please contact the Lodge Secretary via email at olddovorianlodge@gmail.com
URL:https://olddovorians.com/event/old-dovorian-lodge-regular-meeting-3/
LOCATION:Freemasons Hall Great Queen Street London\, 60 Great Queen Street\,\, London\, WC2B 5AZ\, United Kingdom
CATEGORIES:Old Dovorian Lodge
ATTACH;FMTTYPE=image/jpeg:https://olddovorians.com/wp-content/uploads/2025/08/Social-Media-Background.-v2.jpg
END:VEVENT
BEGIN:VEVENT
DTSTART;TZID=Europe/London:20251007T170000
DTEND;TZID=Europe/London:20251007T213000
DTSTAMP:20260423T152202
CREATED:20250629T075911Z
LAST-MODIFIED:20250629T075911Z
UID:2714-1759856400-1759872600@olddovorians.com
SUMMARY:Old Dovorian Lodge Regular Meeting
DESCRIPTION:The Old Dovorian Lodge will be holding their regular Meeting at Freemasons Hall\, Tuesday 7th October 2025. For further information please contact the Lodge Secretary via email at olddovorianlodge@gmail.com
URL:https://olddovorians.com/event/old-dovorian-lodge-regular-meeting-2/
LOCATION:Freemasons Hall Great Queen Street London\, 60 Great Queen Street\,\, London\, WC2B 5AZ\, United Kingdom
CATEGORIES:Old Dovorian Lodge
ATTACH;FMTTYPE=image/jpeg:https://olddovorians.com/wp-content/uploads/2024/09/MetGL-Appron-croped.jpg
END:VEVENT
BEGIN:VEVENT
DTSTART;TZID=Europe/London:20250401T170000
DTEND;TZID=Europe/London:20250401T220000
DTSTAMP:20260423T152202
CREATED:20250128T151437Z
LAST-MODIFIED:20250128T151437Z
UID:2195-1743526800-1743544800@olddovorians.com
SUMMARY:Old Dovorian Lodge Regular Meeting
DESCRIPTION:The Old Dovorian Lodge will be holding there regular Meeting at Freemasons Hall\, Tuesday 1st April 2025. For further information please contact the Lodge Secretary via email at olddovorianlodge@gmail.com
URL:https://olddovorians.com/event/old-dovorian-lodge-regular-meeting/
LOCATION:Freemasons Hall Great Queen Street London\, 60 Great Queen Street\,\, London\, WC2B 5AZ\, United Kingdom
CATEGORIES:Old Dovorian Lodge
ATTACH;FMTTYPE=image/jpeg:https://olddovorians.com/wp-content/uploads/2024/09/MetGL-Appron-croped.jpg
END:VEVENT
BEGIN:VEVENT
DTSTART;TZID=Europe/London:20250204T170000
DTEND;TZID=Europe/London:20250204T210000
DTSTAMP:20260423T152202
CREATED:20241102T085709Z
LAST-MODIFIED:20241102T085709Z
UID:1756-1738688400-1738702800@olddovorians.com
SUMMARY:Old Dovorian Lodge Installation Meeting
DESCRIPTION:The Old Dovorian Lodge will be holding there Installation Meeting at Freemasons Hall\, Tuesday 4th February 2025. For further information please contact the Lodge Secretary via email at olddovorianlodge@gmail.com
URL:https://olddovorians.com/event/old-dovorian-lodge-installation-meeting/
LOCATION:Freemasons Hall Great Queen Street London\, 60 Great Queen Street\,\, London\, WC2B 5AZ\, United Kingdom
CATEGORIES:Old Dovorian Lodge
ATTACH;FMTTYPE=image/jpeg:https://olddovorians.com/wp-content/uploads/2024/11/28224a8bf049d60718cc305ebc0495d3.jpg
END:VEVENT
BEGIN:VEVENT
DTSTART;TZID=Europe/London:20241203T170000
DTEND;TZID=Europe/London:20241203T220000
DTSTAMP:20260423T152202
CREATED:20240929T153543Z
LAST-MODIFIED:20240929T153543Z
UID:1121-1733245200-1733263200@olddovorians.com
SUMMARY:Old Dovorian Lodge December Regular Meeting
DESCRIPTION:The Old Dovorian Lodge will be holding there next regular meeting on Tuesday 3rd December 2024 at Freemasons Hall\, For further information please contact the Lodge Secretary via email at olddovorianlodge@gmail.com
URL:https://olddovorians.com/event/old-dovorian-lodge-december-regular-meeting/
LOCATION:Freemasons Hall Great Queen Street London\, 60 Great Queen Street\,\, London\, WC2B 5AZ\, United Kingdom
CATEGORIES:Old Dovorian Lodge
ATTACH;FMTTYPE=image/jpeg:https://olddovorians.com/wp-content/uploads/2024/09/MetGL-Appron-croped.jpg
END:VEVENT
BEGIN:VEVENT
DTSTART;TZID=Europe/London:20241001T170000
DTEND;TZID=Europe/London:20241001T220000
DTSTAMP:20260423T152202
CREATED:20240929T152414Z
LAST-MODIFIED:20240929T153302Z
UID:1119-1727802000-1727820000@olddovorians.com
SUMMARY:Old Dovorian Lodge October Regular Meeting
DESCRIPTION:The Old Dovorian Lodge will be holding there next regular meeting on Tuesday 1st October 2024 at Freemasons Hall\, For further information please contact the Lodge Secretary via email at olddovorianlodge@gmail.com
URL:https://olddovorians.com/event/old-dovorian-lodge-october-regular-meeting/
LOCATION:Freemasons Hall Great Queen Street London\, 60 Great Queen Street\,\, London\, WC2B 5AZ\, United Kingdom
CATEGORIES:Old Dovorian Lodge
ATTACH;FMTTYPE=image/jpeg:https://olddovorians.com/wp-content/uploads/2024/09/6_-MetGL-AGM-5H2A9209.jpg
END:VEVENT
END:VCALENDAR